BEGIN:VCALENDAR
VERSION:2.0
PRODID:-//wp-events-plugin.com//7.2.3.1//EN
TZID:Europe/Vienna
X-WR-TIMEZONE:Europe/Vienna
BEGIN:VEVENT
UID:211@f-mgt.at
DTSTART;TZID=Europe/Vienna:20261114T000000
DTEND;TZID=Europe/Vienna:20261115T000000
DTSTAMP:20260409T133336Z
URL:https://www.f-mgt.at/events/fmgt-fachtagung-2026/
SUMMARY:FMGT Fachtagung 2026
DESCRIPTION:Sehr geehrte Fachverbandsmitglieder\,\n\ndie Vorbereitungen fü
 r unsere Tagung laufen bereits auf Hochtouren.\nGerne teilen wir schon jet
 zt erste Informationen mit euch und geben einen Vorgeschmack auf Titel und
  inhaltliche Schwerpunkte.\nEine erfolgreiche Tagung lebt vom Austausch\, 
 von Ideen und vom aktiven Mittun unserer Mitglieder und Mitgliederinnen.\n
 Wir freuen uns\, auf ein Wiedersehen bei der Tagung. Bitte schon jetzt das
  Datum in eure Kalender eintragen.\n\n&nbsp\;\nThemenschwerpunkt\nDer sch
 öpferische Zwischenraum – Wo Differenz tragfähig wird\n\nIn einer Zeit
  zunehmender Vereinzelung und Spaltung sowie gleichzeitiger Sehnsucht nach
  Verbundenheit richtet diese Fachtagung den Blick auf den schöpferischen 
 Zwischenraum. Jenen Raum zwischen Innenwelt und Außenwelt\, zwischen Ich 
 und Du\, zwischen Konsens und Dissens. In diesem Raum werden Beziehung\, R
 esonanz und Gestaltung erst möglich. Die Mal- und Gestaltungstherapie arb
 eitet seit jeher in diesem Dazwischen mit inneren Bildern als sensuell-tri
 alogische Ausdrucksformen und Prozesse\, die die Differenz nicht auflösen
 \, sondern dessen Tragfähigkeit fördern. Die Tagung lädt dazu ein\, die
 sen Zwischenraum als therapeutischen\, gesellschaftlichen und kreativen Er
 fahrungsraum zu erforschen.\n\nEingeladen sind Beiträge\, die sich aus th
 eoretischer\, praktischer\, künstlerischer oder interdisziplinärer Persp
 ektive mit der Frage beschäftigen\, wie schöpferische Prozesse im Dazwis
 chen sowohl im Einzel- und Gruppensetting als auch im gesellschaftlichen K
 ontext wirksam und tragfähig werden.\n\nWeitere Informationen zum Program
 m und zur Anmeldung folgen in Kürze.\n\n&nbsp\;\nVeranstaltungsdetails\nT
 agung 2026 \n14. Nov.2026 und 15.Nov.2026\n\nOrt:\nDas Europahaus in Wien 
 \, Linzer Straße 429\, 1140 Wien\n\n&nbsp\;\n\nWir wünschen eine gute Ze
 it und der nächste Newsletter mit mehr Information ist in Vorbereitung.\n
 Eure Obfrauen\nEvelyn Vrecer und Bettina- Yvonne Krautberger
ATTACH;FMTTYPE=image/jpeg:https://www.f-mgt.at/wp-content/uploads/2026/02/
 Einladung-Tagung-2026_Newsletter.jpg
CATEGORIES:FMGT Veranstaltung
LOCATION:Europahaus Wien\, Linzer Straße 429\, Wien\, 1140\, Österreich
X-APPLE-STRUCTURED-LOCATION;VALUE=URI;X-ADDRESS=Linzer Straße 429\, Wien\,
  1140\, Österreich;X-APPLE-RADIUS=100;X-TITLE=Europahaus Wien:geo:0,0
END:VEVENT
BEGIN:VTIMEZONE
TZID:Europe/Vienna
X-LIC-LOCATION:Europe/Vienna
BEGIN:STANDARD
DTSTART:20261025T020000
TZOFFSETFROM:+0200
TZOFFSETTO:+0100
TZNAME:CET
END:STANDARD
END:VTIMEZONE
END:VCALENDAR