BEGIN:VCALENDAR
VERSION:2.0
PRODID:-//wp-events-plugin.com//7.2.3.1//EN
TZID:Europe/Vienna
X-WR-TIMEZONE:Europe/Vienna
BEGIN:VEVENT
UID:204@f-mgt.at
DTSTART;TZID=Europe/Vienna:20260507T100000
DTEND;TZID=Europe/Vienna:20260508T170000
DTSTAMP:20260305T143917Z
URL:https://www.f-mgt.at/events/papierschoepfen-mit-pflanzen/
SUMMARY:PAPIERSCHÖPFEN MIT PFLANZEN
DESCRIPTION:\n\nPapierschöpfen mit Pflanzen\n\n\n\n\nDas alte Handwerk des
  Papierschöpfens ist eine hohe Kunst.\nMit Pflanzen aus meinem „Natur 
 im Garten“ Garten und verschiedenen Ausgangsmaterialien\, sowie Vorgangs
 weisen\, entstehen einzigartige Werke\, die durch die Natur und durch uns 
 selbst beseelt sind.\nBeim Arbeiten im Garten tauchen wir in einen meditat
 iven Seelenzustand ein\, wir wählen aus\, welche Pflanzen wir verwenden w
 ollen\, manches geht so nicht\, anderes entwickelt sich wie von selbst. \
 n\nDer Austausch mit den anderen Workshopteilnehmerinnen wirkt sehr befruc
 htend. Die verwendeten Formate sind A5\, A6\, können aber gerne auch expe
 rimentiert werden. \n\nDieser Workshop ist sowohl für einen Tag\, als au
 ch vertiefend für zwei Tage buchbar. \n\nhttps://www.gabrieleresel-mal-u
 nd-gestaltungs-therapie-im-garten-graz.at/angebote/\n\n\n
ATTACH;FMTTYPE=image/jpeg:https://www.f-mgt.at/wp-content/uploads/2026/03/
 Screenshot-2026-03-04-Papierschoepfen-154041.jpg
CATEGORIES:Veranstaltungen Mitglieder
LOCATION:Gabriele Resel Garten - Artelier\, Edelweißweg 19\, Kainbach bei 
 Graz\, 8047\, Österreich
X-APPLE-STRUCTURED-LOCATION;VALUE=URI;X-ADDRESS=Edelweißweg 19\, Kainbach 
 bei Graz\, 8047\, Österreich;X-APPLE-RADIUS=100;X-TITLE=Gabriele Resel Ga
 rten - Artelier:geo:0,0
END:VEVENT
BEGIN:VTIMEZONE
TZID:Europe/Vienna
X-LIC-LOCATION:Europe/Vienna
BEGIN:DAYLIGHT
DTSTART:20260329T030000
TZOFFSETFROM:+0100
TZOFFSETTO:+0200
TZNAME:CEST
END:DAYLIGHT
END:VTIMEZONE
END:VCALENDAR